Workbook

Sheet الربح والخسارة
B1: السيناريو | C1: الحالة الأسوأ
G3: توقعات
B4: ريال سعودي (بالمليون) | C4: 2023 | D4: 2024 | E4: 2025 | G4: 2026 | H4: 2027 | I4: 2028 | J4: 2029 | K4: 2030
B5: الإيرادات | C5: 100000 | D5: 150000 | E5: 200000 | G5: =RANDBETWEEN(100000,200000) -> 146491 | H5: =RANDBETWEEN(100000,200000) -> 130680 | I5: =RANDBETWEEN(100000,200000) -> 143513 | J5: =RANDBETWEEN(100000,200000) -> 178733 | K5: =RANDBETWEEN(100000,200000) -> 102821
B6: تكلفة البضائع المباعة | C6: -40000 | D6: -80000 | E6: -130000 | G6: -1443 | H6: -1458 | I6: -1472 | J6: -1487 | K6: -1502
B7: الربح الإجمالي | C7: =SUM(C5:C6) -> 60000 | D7: =SUM(D5:D6) -> 70000 | E7: =SUM(E5:E6) -> 70000 | G7: =SUM(G5:G6) -> 145048 | H7: =SUM(H5:H6) -> 129222 | I7: =SUM(I5:I6) -> 142041 | J7: =SUM(J5:J6) -> 177246 | K7: =SUM(K5:K6) -> 101319
B8: النفقات التشغيلية | C8: -40000 | D8: -40000 | E8: -50000 | G8: -1259 | H8: -1271 | I8: -1284 | J8: -1297 | K8: -1310
B9: إيرادات قبل الفائدة، والضرائب، والاستهلاك، والاطفاء | C9: =SUM(C7:C8) -> 20000 | D9: =SUM(D7:D8) -> 30000 | E9: =SUM(E7:E8) -> 20000 | G9: =SUM(G7:G8) -> 143789 | H9: =SUM(H7:H8) -> 127951 | I9: =SUM(I7:I8) -> 140757 | J9: =SUM(J7:J8) -> 175949 | K9: =SUM(K7:K8) -> 100009
B10: الاستهلاك والاطفاء | C10: -31 | D10: -44 | E10: -41 | G10: -44 | H10: -45 | I10: -46 | J10: -47 | K10: -47
B11: إيرادات قبل الفائدة والضرائب | C11: =SUM(C9:C10) -> 19969 | D11: =SUM(D9:D10) -> 29956 | E11: =SUM(E9:E10) -> 19959 | G11: =SUM(G9:G10) -> 143745 | H11: =SUM(H9:H10) -> 127906 | I11: =SUM(I9:I10) -> 140711 | J11: =SUM(J9:J10) -> 175902 | K11: =SUM(K9:K10) -> 99962
B12: نفقات الفائدة | C12: -50 | D12: -67 | E12: -55 | G12: -59 | H12: -55 | I12: -51 | J12: -47 | K12: -41
B13: الربح قبل الضرائب | C13: =SUM(C11:C12) -> 19919 | D13: =SUM(D11:D12) -> 29889 | E13: =SUM(E11:E12) -> 19904 | G13: =SUM(G11:G12) -> 143686 | H13: =SUM(H11:H12) -> 127851 | I13: =SUM(I11:I12) -> 140660 | J13: =SUM(J11:J12) -> 175855 | K13: =SUM(K11:K12) -> 99921
B14: الضرائب | C14: -208 | D14: -210 | E14: -209 | G14: -93 | H14: -95 | I14: -98 | J14: -100 | K14: -103
B15: الدخل الصافي | C15: =SUM(C13:C14) -> 19711 | D15: =SUM(D13:D14) -> 29679 | E15: =SUM(E13:E14) -> 19695 | G15: =SUM(G13:G14) -> 143593 | H15: =SUM(H13:H14) -> 127756 | I15: =SUM(I13:I14) -> 140562 | J15: =SUM(J13:J14) -> 175755 | K15: =SUM(K13:K14) -> 99818
B17: نسبة نمو الإيرادات
B18: الحالة المختارة | G18: =VLOOKUP($C$1,$B19:$K21,COLUMNS($B19:G23),FALSE) -> 0.01 | H18: =VLOOKUP($C$1,$B19:$K21,COLUMNS($B19:H23),FALSE) -> 0.01 | I18: =VLOOKUP($C$1,$B19:$K21,COLUMNS($B19:I23),FALSE) -> 0.01 | J18: =VLOOKUP($C$1,$B19:$K21,COLUMNS($B19:J23),FALSE) -> 0.01 | K18: =VLOOKUP($C$1,$B19:$K21,COLUMNS($B19:K23),FALSE) -> 0.01
B19: الحالة الأمثل | G19: 0.03 | H19: 0.03 | I19: 0.03 | J19: 0.03 | K19: 0.03
B20: الحالة الأساسية | G20: 0.02 | H20: 0.02 | I20: 0.02 | J20: 0.02 | K20: 0.02
B21: الحالة الأسوأ | G21: 0.01 | H21: 0.01 | I21: 0.01 | J21: 0.01 | K21: 0.01
B23: تكلفة البضائع المباعة كنسبة من الإيرادات
B24: الحالة المختارة | C24: =C6/C5 -> -0.4 | D24: =D6/D5 -> -0.53333333 | E24: =E6/E5 -> -0.65 | G24: =VLOOKUP($C$1,$B25:$K27,COLUMNS($B25:G29),FALSE) -> -0.47 | H24: =VLOOKUP($C$1,$B25:$K27,COLUMNS($B25:H29),FALSE) -> -0.47 | I24: =VLOOKUP($C$1,$B25:$K27,COLUMNS($B25:I29),FALSE) -> -0.47 | J24: =VLOOKUP($C$1,$B25:$K27,COLUMNS($B25:J29),FALSE) -> -0.47 | K24: =VLOOKUP($C$1,$B25:$K27,COLUMNS($B25:K29),FALSE) -> -0.47
B25: الحالة الأمثل | C25: -0.48 | D25: -0.46 | E25: -0.45 | G25: -0.45 | H25: -0.45 | I25: -0.45 | J25: -0.45 | K25: -0.45
B26: الحالة الأساسية | C26: -0.48 | D26: -0.46 | E26: -0.45 | G26: -0.46 | H26: -0.46 | I26: -0.46 | J26: -0.46 | K26: -0.46
B27: الحالة الأسوأ | C27: -0.48 | D27: -0.46 | E27: -0.45 | G27: -0.47 | H27: -0.47 | I27: -0.47 | J27: -0.47 | K27: -0.47
B29: النفقات التشغيلية كنسبة من الإيرادات
B30: الحالة المختارة | C30: =C8/C5 -> -0.4 | D30: =D8/D5 -> -0.26666667 | E30: =E8/E5 -> -0.25 | G30: =VLOOKUP($C$1,$B31:$K33,COLUMNS($B31:G33),FALSE) -> -0.41 | H30: =VLOOKUP($C$1,$B31:$K33,COLUMNS($B31:H33),FALSE) -> -0.41 | I30: =VLOOKUP($C$1,$B31:$K33,COLUMNS($B31:I33),FALSE) -> -0.41 | J30: =VLOOKUP($C$1,$B31:$K33,COLUMNS($B31:J33),FALSE) -> -0.41 | K30: =VLOOKUP($C$1,$B31:$K33,COLUMNS($B31:K33),FALSE) -> -0.41
B31: الحالة الأمثل | C31: -0.41 | D31: -0.42 | E31: -0.35 | G31: -0.35 | H31: -0.35 | I31: -0.35 | J31: -0.35 | K31: -0.35
B32: الحالة الأساسية | C32: -0.41 | D32: -0.42 | E32: -0.35 | G32: -0.39 | H32: -0.39 | I32: -0.39 | J32: -0.39 | K32: -0.39
B33: الحالة الأسوأ | C33: -0.41 | D33: -0.42 | E33: -0.35 | G33: -0.41 | H33: -0.41 | I33: -0.41 | J33: -0.41 | K33: -0.41
B35: الضرائب | G35: 0.225 | H35: 0.225 | I35: 0.225 | J35: 0.225 | K35: 0.225

Sheet الميزانية العمومية
B1: الميزانية العمومية
F3: توقعات
B4: ريال سعودي (بالمليون) | C4: 46022 | D4: 46387 | E4: 46752 | F4: 47118 | G4: 47483 | H4: 47848 | I4: 48213 | J4: 48579
B5: المديونات التجارية | C5: =RANDBETWEEN(10000,40000) -> 23338 | D5: =RANDBETWEEN(10000,40000) -> 11382 | E5: =RANDBETWEEN(10000,40000) -> 32800 | F5: =RANDBETWEEN(10000,40000) -> 36912 | G5: =RANDBETWEEN(10000,40000) -> 29837 | H5: =RANDBETWEEN(10000,40000) -> 12921 | I5: =RANDBETWEEN(10000,40000) -> 39180 | J5: =RANDBETWEEN(10000,40000) -> 38890
B6: المخزون | C6: =RANDBETWEEN(10000,40000) -> 18371 | D6: =RANDBETWEEN(10000,40000) -> 16147 | E6: =RANDBETWEEN(10000,40000) -> 17642 | F6: =RANDBETWEEN(10000,40000) -> 28642 | G6: =RANDBETWEEN(10000,40000) -> 27110 | H6: =RANDBETWEEN(10000,40000) -> 33058 | I6: =RANDBETWEEN(10000,40000) -> 21340 | J6: =RANDBETWEEN(10000,40000) -> 38558
B7: الأصول الثابتة والمعدات | C7: =RANDBETWEEN(10000,40000) -> 13740 | D7: =RANDBETWEEN(10000,40000) -> 21339 | E7: =RANDBETWEEN(10000,40000) -> 28325 | F7: =RANDBETWEEN(10000,40000) -> 22189 | G7: =RANDBETWEEN(10000,40000) -> 20966 | H7: =RANDBETWEEN(10000,40000) -> 16904 | I7: =RANDBETWEEN(10000,40000) -> 37048 | J7: =RANDBETWEEN(10000,40000) -> 28989
B8: النقد | C8: =RANDBETWEEN(10000,40000) -> 31478 | D8: =RANDBETWEEN(10000,40000) -> 27515 | E8: =RANDBETWEEN(10000,40000) -> 19179 | F8: =RANDBETWEEN(10000,40000) -> 18383 | G8: =RANDBETWEEN(10000,40000) -> 31159 | H8: =RANDBETWEEN(10000,40000) -> 30854 | I8: =RANDBETWEEN(10000,40000) -> 10161 | J8: =RANDBETWEEN(10000,40000) -> 18192
B9: أصول أخرى | C9: =RANDBETWEEN(10000,40000) -> 28354 | D9: =RANDBETWEEN(10000,40000) -> 23672 | E9: =RANDBETWEEN(10000,40000) -> 34265 | F9: =RANDBETWEEN(10000,40000) -> 32548 | G9: =RANDBETWEEN(10000,40000) -> 30792 | H9: =RANDBETWEEN(10000,40000) -> 35829 | I9: =RANDBETWEEN(10000,40000) -> 28228 | J9: =RANDBETWEEN(10000,40000) -> 16498
B10: الأصول | C10: =SUM(C5:C9) -> 115281 | D10: =SUM(D5:D9) -> 100055 | E10: =SUM(E5:E9) -> 132211 | F10: =SUM(F5:F9) -> 138674 | G10: =SUM(G5:G9) -> 139864 | H10: =SUM(H5:H9) -> 129566 | I10: =SUM(I5:I9) -> 135957 | J10: =SUM(J5:J9) -> 141127
B12: الديون التجارية | C12: =RANDBETWEEN(10000,40000) -> 13220 | D12: =RANDBETWEEN(10000,40000) -> 31973 | E12: =RANDBETWEEN(10000,40000) -> 39758 | F12: =RANDBETWEEN(10000,40000) -> 23362 | G12: =RANDBETWEEN(10000,40000) -> 20557 | H12: =RANDBETWEEN(10000,40000) -> 30348 | I12: =RANDBETWEEN(10000,40000) -> 22799 | J12: =RANDBETWEEN(10000,40000) -> 21168
B13: الاحتياطيات | C13: =RANDBETWEEN(10000,40000) -> 31429 | D13: =RANDBETWEEN(10000,40000) -> 37860 | E13: =RANDBETWEEN(10000,40000) -> 27256 | F13: =RANDBETWEEN(10000,40000) -> 20756 | G13: =RANDBETWEEN(10000,40000) -> 35281 | H13: =RANDBETWEEN(10000,40000) -> 30186 | I13: =RANDBETWEEN(10000,40000) -> 36474 | J13: =RANDBETWEEN(10000,40000) -> 37476
B14: الالتزامات المالية | C14: =RANDBETWEEN(10000,40000) -> 15828 | D14: =RANDBETWEEN(10000,40000) -> 39400 | E14: =RANDBETWEEN(10000,40000) -> 30565 | F14: =RANDBETWEEN(10000,40000) -> 34668 | G14: =RANDBETWEEN(10000,40000) -> 39195 | H14: =RANDBETWEEN(10000,40000) -> 17826 | I14: =RANDBETWEEN(10000,40000) -> 31226 | J14: =RANDBETWEEN(10000,40000) -> 13756
B15: الالتزامات الأخرى | C15: =RANDBETWEEN(10000,40000) -> 26142 | D15: =RANDBETWEEN(10000,40000) -> 31934 | E15: =RANDBETWEEN(10000,40000) -> 24507 | F15: =RANDBETWEEN(10000,40000) -> 18346 | G15: =RANDBETWEEN(10000,40000) -> 10107 | H15: =RANDBETWEEN(10000,40000) -> 30562 | I15: =RANDBETWEEN(10000,40000) -> 34699 | J15: =RANDBETWEEN(10000,40000) -> 37446
B16: حقوق الملكية | C16: =RANDBETWEEN(10000,40000) -> 16732 | D16: =RANDBETWEEN(10000,40000) -> 39535 | E16: =RANDBETWEEN(10000,40000) -> 12877 | F16: =RANDBETWEEN(10000,40000) -> 36258 | G16: =RANDBETWEEN(10000,40000) -> 13404 | H16: =RANDBETWEEN(10000,40000) -> 18557 | I16: =RANDBETWEEN(10000,40000) -> 39232 | J16: =RANDBETWEEN(10000,40000) -> 38561
B17: الالتزامات وحقوق الملكية | C17: =SUM(C12:C16) -> 103351 | D17: =SUM(D12:D16) -> 180702 | E17: =SUM(E12:E16) -> 134963 | F17: =SUM(F12:F16) -> 133390 | G17: =SUM(G12:G16) -> 118544 | H17: =SUM(H12:H16) -> 127479 | I17: =SUM(I12:I16) -> 164430 | J17: =SUM(J12:J16) -> 148407
B20: أيام مبيعات الحسابات المدينة (DSO) | C20: =C5/'الربح والخسارة'!C5*360 -> 84.0168 | D20: =D5/'الربح والخسارة'!D5*360 -> 27.3168 | E20: =E5/'الربح والخسارة'!E5*360 -> 59.04 | F20: =AVERAGE(C20:E20) -> 56.7912 | G20: =AVERAGE(C20:E20) -> 56.7912 | H20: =AVERAGE(C20:E20) -> 56.7912 | I20: =AVERAGE(C20:E20) -> 56.7912 | J20: =AVERAGE(C20:E20) -> 56.7912
B21: أيام مخزون البضائع (DIO) | C21: =-C6/'الربح والخسارة'!C6*360 -> 165.339 | D21: =-D6/'الربح والخسارة'!D6*360 -> 72.6615 | E21: =-E6/'الربح والخسارة'!E6*360 -> 48.854769 | F21: =AVERAGE(C21:E21) -> 95.618423 | G21: =AVERAGE(C21:E21) -> 95.618423 | H21: =AVERAGE(C21:E21) -> 95.618423 | I21: =AVERAGE(C21:E21) -> 95.618423 | J21: =AVERAGE(C21:E21) -> 95.618423
B22: أيام الحسابات الدائنة (DPO) | C22: =-C12/'الربح والخسارة'!C6*360 -> 118.98 | D22: =-D12/'الربح والخسارة'!D6*360 -> 143.8785 | E22: =-E12/'الربح والخسارة'!E6*360 -> 110.09908 | F22: =AVERAGE(C22:E22) -> 124.31919 | G22: =AVERAGE(C22:E22) -> 124.31919 | H22: =AVERAGE(C22:E22) -> 124.31919 | I22: =AVERAGE(C22:E22) -> 124.31919 | J22: =AVERAGE(C22:E22) -> 124.31919
B23: نسبة الأصول الأخرى % | C23: =C9/'الربح والخسارة'!C5 -> 0.28354 | D23: =D9/'الربح والخسارة'!D5 -> 0.15781333 | E23: =E9/'الربح والخسارة'!E5 -> 0.171325 | F23: =AVERAGE(C23:E23) -> 0.20422611 | G23: =AVERAGE(C23:E23) -> 0.20422611 | H23: =AVERAGE(C23:E23) -> 0.20422611 | I23: =AVERAGE(C23:E23) -> 0.20422611 | J23: =AVERAGE(C23:E23) -> 0.20422611
B24: نسبة الالتزامات الأخرى % | C24: =C15/'الربح والخسارة'!C5 -> 0.26142 | D24: =D15/'الربح والخسارة'!D5 -> 0.21289333 | E24: =E15/'الربح والخسارة'!E5 -> 0.122535 | F24: =AVERAGE(C24:E24) -> 0.19894944 | G24: =AVERAGE(C24:E24) -> 0.19894944 | H24: =AVERAGE(C24:E24) -> 0.19894944 | I24: =AVERAGE(C24:E24) -> 0.19894944 | J24: =AVERAGE(C24:E24) -> 0.19894944
B26: Check | C26: =C10-C17 -> 11930 | D26: =D10-D17 -> -80647 | E26: =E10-E17 -> -2752 | F26: =F10-F17 -> 5284 | G26: =G10-G17 -> 21320 | H26: =H10-H17 -> 2087 | I26: =I10-I17 -> -28473 | J26: =J10-J17 -> -7280

Sheet التدفق النقدي
B1: التدفق النقدي
C3: توقعات
B4: ريال سعودي (بالمليون) | C4: 2023 | D4: 2024 | E4: 2025 | F4: 2026 | G4: 2027
B5: إيرادات قبل الفائدة، والضرائب، والاستهلاك، والاطفاء | C5: ='الربح والخسارة'!G9 -> 143789 | D5: ='الربح والخسارة'!H9 -> 127951 | E5: ='الربح والخسارة'!I9 -> 140757 | F5: ='الربح والخسارة'!J9 -> 175949 | G5: ='الربح والخسارة'!K9 -> 100009
B6: نفقات الفائدة | C6: ='الربح والخسارة'!G12 -> -59 | D6: ='الربح والخسارة'!H12 -> -55 | E6: ='الربح والخسارة'!I12 -> -51 | F6: ='الربح والخسارة'!J12 -> -47 | G6: ='الربح والخسارة'!K12 -> -41
B7: الضرائب | C7: ='الربح والخسارة'!G14 -> -93 | D7: ='الربح والخسارة'!H14 -> -95 | E7: ='الربح والخسارة'!I14 -> -98 | F7: ='الربح والخسارة'!J14 -> -100 | G7: ='الربح والخسارة'!K14 -> -103
B8: التغيير في الحسابات التجارية المستحقة | C8: =-('الميزانية العمومية'!F5-'الميزانية العمومية'!E5) -> -4112 | D8: =-('الميزانية العمومية'!G5-'الميزانية العمومية'!F5) -> 7075 | E8: =-('الميزانية العمومية'!H5-'الميزانية العمومية'!G5) -> 16916 | F8: =-('الميزانية العمومية'!I5-'الميزانية العمومية'!H5) -> -26259 | G8: =-('الميزانية العمومية'!J5-'الميزانية العمومية'!I5) -> 290
B9: التغيير في المخزون | C9: =-('الميزانية العمومية'!F6-'الميزانية العمومية'!E6) -> -11000 | D9: =-('الميزانية العمومية'!G6-'الميزانية العمومية'!F6) -> 1532 | E9: =-('الميزانية العمومية'!H6-'الميزانية العمومية'!G6) -> -5948 | F9: =-('الميزانية العمومية'!I6-'الميزانية العمومية'!H6) -> 11718 | G9: =-('الميزانية العمومية'!J6-'الميزانية العمومية'!I6) -> -17218
B10: التغيير في الديون التجارية | C10: ='الميزانية العمومية'!F12-'الميزانية العمومية'!E12 -> -16396 | D10: ='الميزانية العمومية'!G12-'الميزانية العمومية'!F12 -> -2805 | E10: ='الميزانية العمومية'!H12-'الميزانية العمومية'!G12 -> 9791 | F10: ='الميزانية العمومية'!I12-'الميزانية العمومية'!H12 -> -7549 | G10: ='الميزانية العمومية'!J12-'الميزانية العمومية'!I12 -> -1631
B11: التغيير في الأصول الأخرى | C11: =-('الميزانية العمومية'!F9-'الميزانية العمومية'!E9) -> 1717 | D11: =-('الميزانية العمومية'!G9-'الميزانية العمومية'!F9) -> 1756 | E11: =-('الميزانية العمومية'!H9-'الميزانية العمومية'!G9) -> -5037 | F11: =-('الميزانية العمومية'!I9-'الميزانية العمومية'!H9) -> 7601 | G11: =-('الميزانية العمومية'!J9-'الميزانية العمومية'!I9) -> 11730
B12: التغيير في الالتزامات الأخرى | C12: ='الميزانية العمومية'!F15-'الميزانية العمومية'!E15 -> -6161 | D12: ='الميزانية العمومية'!G15-'الميزانية العمومية'!F15 -> -8239 | E12: ='الميزانية العمومية'!H15-'الميزانية العمومية'!G15 -> 20455 | F12: ='الميزانية العمومية'!I15-'الميزانية العمومية'!H15 -> 4137 | G12: ='الميزانية العمومية'!J15-'الميزانية العمومية'!I15 -> 2747
B13: التكاليف الرأسمالية | C13: -58 | D13: -56 | E13: -56 | F13: -56 | G13: -56
B14: تدفق النقد التشغيلي | C14: =SUM(C5:C13) -> 107627 | D14: =SUM(D5:D13) -> 127064 | E14: =SUM(E5:E13) -> 176729 | F14: =SUM(F5:F13) -> 165394 | G14: =SUM(G5:G13) -> 95727
B15: الأرباح | C15: -69 | D15: -71 | E15: -72 | F15: -74 | G15: -77
B16: التغيير في الالتزامات المالية | C16: ='الميزانية العمومية'!F14-'الميزانية العمومية'!E14 -> 4103 | D16: ='الميزانية العمومية'!G14-'الميزانية العمومية'!F14 -> 4527 | E16: ='الميزانية العمومية'!H14-'الميزانية العمومية'!G14 -> -21369 | F16: ='الميزانية العمومية'!I14-'الميزانية العمومية'!H14 -> 13400 | G16: ='الميزانية العمومية'!J14-'الميزانية العمومية'!I14 -> -17470
B17: التغيير في الاحتياطيات | C17: - | D17: - | E17: - | F17: - | G17: -
B18: التغيير في حقوق الملكية | C18: - | D18: - | E18: - | F18: - | G18: 0
B19: تدفق النقد الصافي | C19: =SUM(C14:C16) -> 111661 | D19: =SUM(D14:D16) -> 131520 | E19: =SUM(E14:E16) -> 155288 | F19: =SUM(F14:F16) -> 178720 | G19: =SUM(G14:G16) -> 78180
